BEGIN:VCALENDAR
VERSION:2.0
PRODID:-//ChamberMaster//Event Calendar 2.0//EN
METHOD:PUBLISH
X-PUBLISHED-TTL:P3D
REFRESH-INTERVAL:P3D
CALSCALE:GREGORIAN
BEGIN:VEVENT
DTSTART:20160206T190000Z
DTEND:20160206T230000Z
X-MICROSOFT-CDO-ALLDAYEVENT:FALSE
SUMMARY:Play Date at the Depot
DESCRIPTION:Come celebrate "sweets and sweeties" at the historic Issaquah Depot Museum! For its February Play Date\, Issaquah History Museums invites you to drop in with your children for a hands-on exploration of February traditions of the past. Volunteers and children will talk about important people in our lives and how we show them that they are important. Children will be able to decorate Valentine's and/or a cookie to take home.\n\nAdmission to the Depot will be free to all participants in the February Play Date.
X-ALT-DESC;FMTTYPE=text/html:<div style="color: rgb(64\, 63\, 66)\; font-family: Arial\; font-size: 13.3333330154419px\; line-height: normal\;">Come celebrate &quot\;sweets and sweeties&quot\; at the historic Issaquah Depot Museum! For its February Play Date\, Issaquah History Museums invites you to drop in with your children for a hands-on exploration of February traditions of the past.&nbsp\;Volunteers and children will talk about important people in our lives and how we show them that they are important.&nbsp\;Children will be able to decorate Valentine&#39\;s and/or a cookie to take home.</div>\n\n<div style="color: rgb(64\, 63\, 66)\; font-family: Arial\; font-size: 13.3333330154419px\; line-height: normal\;">Admission to the Depot will be free to all participants in the February Play Date.</div>\n
LOCATION:Issaquah Depot Museum\, 78 First Avenue NE.
UID:e.684.1751
SEQUENCE:3
DTSTAMP:20260425T125419Z
URL:https://business.issaquahchamber.com/events/details/play-date-at-the-depot-02-06-2016-1751
END:VEVENT

END:VCALENDAR
