BEGIN:VCALENDAR
VERSION:2.0
PRODID:-//ChamberMaster//Event Calendar 2.0//EN
METHOD:PUBLISH
X-PUBLISHED-TTL:P3D
REFRESH-INTERVAL:P3D
CALSCALE:GREGORIAN
BEGIN:VEVENT
DTSTART:20160305T190000Z
DTEND:20160305T230000Z
X-MICROSOFT-CDO-ALLDAYEVENT:FALSE
SUMMARY:Play Date at the Depot
DESCRIPTION:Come plant seeds at the historic Issaquah Depot Museum! For its March Play Date\, Issaquah History Museums invites you to drop in with your children for a hands-on exploration of one of the most eagerly awaited activities of springs past - growing food! Kids and volunteers will talk about where our food comes from\, and where most peoples' food came from 100 years ago. Did your favorite food exist back then? Could you have grown part of it in your yard? Kids will plant (and bring home) a seed to grow into a bean plant. Kids will also be able to try out (with volunteer help) a centrifugal seeder.\n\nParents and guardians are welcome to participate or merely observe from a distance while drinking a cup of hot coffee or tea. Admission to the Depot will be free to all participants in the March Play Date.
X-ALT-DESC;FMTTYPE=text/html:<p style="box-sizing: border-box\; margin: 0px 0px 10px\; padding: 0px\; border: 0px rgb(225\, 225\, 225)\; font-family: 'Open Sans'\, HelveticaNeue\, 'Helvetica Neue'\, Helvetica\, Arial\, sans-serif\; font-stretch: inherit\; line-height: 1.7\; vertical-align: baseline\; color: rgb(102\, 102\, 102)\;">Come plant seeds at the historic Issaquah Depot Museum! For its March Play Date\, Issaquah History Museums invites you to drop in with your children for a hands-on exploration of one of the most eagerly awaited activities of springs past -&nbsp\;growing food! Kids and volunteers will talk about where our food comes from\, and where most peoples&rsquo\; food came from 100 years ago. Did your favorite food exist back then? Could you have grown part of it in your yard? Kids will plant (and bring home) a seed to grow into a bean plant. Kids will also be able to try out (with volunteer help) a centrifugal seeder.</p>\n\n<p style="box-sizing: border-box\; margin: 0px 0px 10px\; padding: 0px\; border: 0px rgb(225\, 225\, 225)\; font-family: 'Open Sans'\, HelveticaNeue\, 'Helvetica Neue'\, Helvetica\, Arial\, sans-serif\; font-stretch: inherit\; line-height: 1.7\; vertical-align: baseline\; color: rgb(102\, 102\, 102)\;">Parents and guardians are welcome to participate or merely observe from a distance while drinking a cup of hot coffee or tea. Admission to the Depot will be free to all participants in the March Play Date.</p>\n
LOCATION:Issaquah Depot Museum\, 78 First Avenue NE.
UID:e.684.1917
SEQUENCE:3
DTSTAMP:20260425T113100Z
URL:https://business.issaquahchamber.com/events/details/play-date-at-the-depot-03-05-2016-1917
END:VEVENT

END:VCALENDAR
