BEGIN:VCALENDAR
VERSION:2.0
PRODID:-//ChamberMaster//Event Calendar 2.0//EN
METHOD:PUBLISH
X-PUBLISHED-TTL:P3D
REFRESH-INTERVAL:P3D
CALSCALE:GREGORIAN
BEGIN:VEVENT
DTSTART:20160226T024500Z
DTEND:20160226T050000Z
X-MICROSOFT-CDO-ALLDAYEVENT:FALSE
SUMMARY:Pub Crawl
DESCRIPTION:The Issaquah History Museums and Downtown Issaquah Association are pleased to announce another History Pub Crawl!\n\nIssaquah has an interesting and colorful past of murder\, mayhem\, and prohibition and we want to share it with you. The crawl will start at the historic Train Depot Museum and proceed through six of Issaquah's downtown establishments. Each location will feature a small cocktail or appetizer\, lively narratives\, and juicy tidbits about the people of Issaquah and times gone by. The event will end at the Historic Shell Station with moonshine and chocolate. Participants will receive a commemorative shot glass to mark the occasion.\n\nThe event will kicks off with check-in at the Issaquah Depot Museum at 6:45 p.m. The Pub Crawl will commence at 7:00 p.m. sharp and end around 9:00 p.m. This event involves walking outdoors.
X-ALT-DESC;FMTTYPE=text/html:<p style="box-sizing: border-box\; margin: 0px 0px 10px\; padding: 0px\; border: 0px rgb(225\, 225\, 225)\; font-family: 'Open Sans'\, HelveticaNeue\, 'Helvetica Neue'\, Helvetica\, Arial\, sans-serif\; font-stretch: inherit\; line-height: 1.7\; vertical-align: baseline\; color: rgb(102\, 102\, 102)\;"><span class="fsl" style="box-sizing: border-box\; margin: 0px\; padding: 0px\; border: 0px rgb(225\, 225\, 225)\; font-family: inherit\; font-size: inherit\; font-style: inherit\; font-variant: inherit\; font-weight: inherit\; font-stretch: inherit\; line-height: inherit\; vertical-align: baseline\;">The Issaquah History Museums and Downtown Issaquah Association are pleased to announce another History Pub Crawl!</span></p>\n\n<p style="box-sizing: border-box\; margin: 0px 0px 10px\; padding: 0px\; border: 0px rgb(225\, 225\, 225)\; font-family: 'Open Sans'\, HelveticaNeue\, 'Helvetica Neue'\, Helvetica\, Arial\, sans-serif\; font-stretch: inherit\; line-height: 1.7\; vertical-align: baseline\; color: rgb(102\, 102\, 102)\;">Issaquah has an interesting and colorful past of murder\, mayhem\, and prohibition and we want to share it with you. The crawl will start at the historic Train Depot Museum and proceed through six of Issaquah&rsquo\;s downtown establishments. Each location will feature a small cocktail or appetizer\, lively narratives\, and juicy tidbits about the people of Issaquah and times gone by. The event will end at the Historic Shell Station with moonshine and chocolate. Participants will receive a commemorative shot glass to mark the occasion.</p>\n\n<p style="box-sizing: border-box\; margin: 0px 0px 10px\; padding: 0px\; border: 0px rgb(225\, 225\, 225)\; font-family: 'Open Sans'\, HelveticaNeue\, 'Helvetica Neue'\, Helvetica\, Arial\, sans-serif\; font-stretch: inherit\; line-height: 1.7\; vertical-align: baseline\; color: rgb(102\, 102\, 102)\;">The event will kicks off with check-in at the Issaquah Depot Museum at 6:45 p.m. The Pub Crawl will commence at 7:00 p.m. sharp and end around 9:00 p.m. This event involves walking outdoors.</p>\n
LOCATION:Issaquah Depot Museum\, 78 First Avenue NE
UID:e.684.1762
SEQUENCE:3
DTSTAMP:20260425T112343Z
URL:https://business.issaquahchamber.com/events/details/pub-crawl-02-25-2016-1762
END:VEVENT

END:VCALENDAR
