BEGIN:VCALENDAR
VERSION:2.0
PRODID:-//ChamberMaster//Event Calendar 2.0//EN
METHOD:PUBLISH
X-PUBLISHED-TTL:P3D
REFRESH-INTERVAL:P3D
CALSCALE:GREGORIAN
BEGIN:VEVENT
DTSTART:20170313T000000Z
DTEND:20170313T030000Z
X-MICROSOFT-CDO-ALLDAYEVENT:FALSE
SUMMARY:Purim in Hollywood
DESCRIPTION:Purim in Hollywood\n\nMegillah Reading at 5pm\n\nMovie showing at 6pm\n\nGrand costume red carpet runway show   Come Dressed Up!\n\nHollywood-themed buffet\, paparazzi photo booth\, crafts and games for kids\, music and dancing\n\nAdults $10\; Kids under age 10 $5\n\nRSVP to be on the VIP guest list and have your own star on  the Hollywood Walk of Fame.
X-ALT-DESC;FMTTYPE=text/html:<p>Purim in Hollywood</p>\n\n<p>Megillah Reading at 5pm</p>\n\n<p>Movie showing at 6pm</p>\n\n<p>Grand costume red carpet runway show &ndash\; Come Dressed Up!</p>\n\n<p>Hollywood-themed buffet\, paparazzi photo booth\, crafts and games for kids\, music and dancing</p>\n\n<p>Adults $10\; Kids under age 10 $5</p>\n\n<p>RSVP to be on the VIP guest list and have your own star on &nbsp\;the Hollywood Walk of Fame.</p>\n
LOCATION:Blakely Hall 2550 NE Park Drive Issaquah\, WA 98029 United States
UID:e.684.3522
SEQUENCE:3
DTSTAMP:20260424T194041Z
URL:https://business.issaquahchamber.com/events/details/purim-in-hollywood-3522
END:VEVENT

END:VCALENDAR
