BEGIN:VCALENDAR
VERSION:2.0
PRODID:-//ChamberMaster//Event Calendar 2.0//EN
METHOD:PUBLISH
X-PUBLISHED-TTL:P3D
REFRESH-INTERVAL:P3D
CALSCALE:GREGORIAN
BEGIN:VEVENT
DTSTART:20170520T190000Z
DTEND:20170521T150000Z
X-MICROSOFT-CDO-ALLDAYEVENT:FALSE
SUMMARY:Relay for Life
DESCRIPTION:
X-ALT-DESC;FMTTYPE=text/html:
LOCATION:Issaquah High School 700 2nd Ave SE Issaquah\, WA
UID:e.684.3535
SEQUENCE:3
DTSTAMP:20260424T155644Z
URL:https://business.issaquahchamber.com/events/details/relay-for-life-3535
END:VEVENT

END:VCALENDAR
