BEGIN:VCALENDAR
VERSION:2.0
PRODID:-//ChamberMaster//Event Calendar 2.0//EN
METHOD:PUBLISH
X-PUBLISHED-TTL:P3D
REFRESH-INTERVAL:P3D
CALSCALE:GREGORIAN
BEGIN:VEVENT
DTSTART:20151016T230000Z
DTEND:20151016T233000Z
X-MICROSOFT-CDO-ALLDAYEVENT:FALSE
SUMMARY:Ribbon Cutting: Bukhara Bar & Grill
DESCRIPTION:Join us in celebrating Issaquah's newest restaurant\, Buhkara Bar & Grill! Located in downtown Issaquah!
X-ALT-DESC;FMTTYPE=text/html:Join us in celebrating Issaquah&#39\;s newest restaurant\, Buhkara Bar &amp\; Grill! Located in downtown Issaquah!
LOCATION:131 Front Street North Issaquah\, Washington 98027
UID:e.684.1381
SEQUENCE:3
DTSTAMP:20260425T165821Z
URL:https://business.issaquahchamber.com/events/details/ribbon-cutting-bukhara-bar-grill-10-16-2015-1381
END:VEVENT

END:VCALENDAR
