BEGIN:VCALENDAR
VERSION:2.0
PRODID:-//ChamberMaster//Event Calendar 2.0//EN
METHOD:PUBLISH
X-PUBLISHED-TTL:P3D
REFRESH-INTERVAL:P3D
CALSCALE:GREGORIAN
BEGIN:VEVENT
DTSTART:20150925T173000Z
DTEND:20150925T183000Z
X-MICROSOFT-CDO-ALLDAYEVENT:FALSE
SUMMARY:Ribbon Cutting-Bukhara Bar & Grill- CANCELLED
DESCRIPTION:Will reschedule.\n\n\n\n\n\n\n\n\n\nJoin us in celebrating Bukhara Bar & Grill! Ribbon Cutting will take place at 10:30!
X-ALT-DESC;FMTTYPE=text/html:<span style="color:#FF0000\;"><strong><span style="font-size:22px\;">Will reschedule.</span></strong></span><br />\n<br />\n<br />\n<br />\n<br />\nJoin us in celebrating Bukhara Bar &amp\; Grill! Ribbon Cutting will take place at 10:30!
LOCATION:131 Front St N Issaquah\, WA 98027
UID:e.684.1378
SEQUENCE:3
DTSTAMP:20260425T181932Z
URL:https://business.issaquahchamber.com/events/details/ribbon-cutting-bukhara-bar-grill-cancelled-09-25-2015-1378
END:VEVENT

END:VCALENDAR
