BEGIN:VCALENDAR
VERSION:2.0
PRODID:-//ChamberMaster//Event Calendar 2.0//EN
METHOD:PUBLISH
X-PUBLISHED-TTL:P3D
REFRESH-INTERVAL:P3D
CALSCALE:GREGORIAN
BEGIN:VEVENT
DTSTART:20170905T170000Z
DTEND:20170905T180000Z
X-MICROSOFT-CDO-ALLDAYEVENT:FALSE
SUMMARY:RIBBON CUTTING: Clark Elementary
DESCRIPTION:Clark Elementary School Ribbon Cutting Ceremony Set for September 5\n\nCome help us celebrate the completion of the new Clark Elementary school! You are invited to attend our ribbon cutting ceremony hosted by the Issaquah Chamber of Commerce on Tuesday\, September 5 at 10:30 a.m. Staff\, students\, parents\, members of the ISD School Board\, local officials\, the King and Queen of Issaquah\, and Issaquah Mayor Fred Butler will all be coming together for this fun event. Clark Elementary's Meet the Teacher event will take place at 11:00 a.m. after the ceremony. The new school is located at 335 First Avenue SE in Issaquah.
X-ALT-DESC;FMTTYPE=text/html:<strong><span style="font-size:14.0pt\;">Clark Elementary School Ribbon Cutting Ceremony Set for September 5</span></strong><br />\n<span style="font-size:12.0pt\;">Come help us celebrate the completion of the new Clark Elementary school! You are invited to attend our ribbon cutting ceremony hosted by the Issaquah Chamber of Commerce on Tuesday\, September 5 at 10:30 a.m. Staff\, students\, parents\, members of the ISD School Board\, local officials\, the King and Queen of Issaquah\, and Issaquah Mayor Fred Butler will all be coming together for this fun event. Clark Elementary&rsquo\;s Meet the Teacher event will take place at 11:00 a.m. after the ceremony. The new school is located at 335 First Avenue SE in Issaquah.</span>
LOCATION:Clark Elementary 335 First Avenue SE Issaquah\, Washington 98027
UID:e.684.3818
SEQUENCE:3
DTSTAMP:20260424T104028Z
URL:https://business.issaquahchamber.com/events/details/ribbon-cutting-clark-elementary-3818
END:VEVENT

END:VCALENDAR
