BEGIN:VCALENDAR
VERSION:2.0
PRODID:-//ChamberMaster//Event Calendar 2.0//EN
METHOD:PUBLISH
X-PUBLISHED-TTL:P3D
REFRESH-INTERVAL:P3D
CALSCALE:GREGORIAN
BEGIN:VEVENT
DTSTART:20160914T000000Z
DTEND:20160914T003000Z
X-MICROSOFT-CDO-ALLDAYEVENT:FALSE
SUMMARY:RIBBON CUTTING: Gibson Ek
DESCRIPTION:We have the happy occasion of dedicating our new Gibson Ek High School and we'd like you to join us!
X-ALT-DESC;FMTTYPE=text/html:<span style="font-size:12px\;"><span style="font-family:arial\;">We have the happy occasion of dedicating our new Gibson Ek High School and we&rsquo\;d like you to join us!</span></span>
LOCATION:Gibson Elk High School 379 1st PL SE Issaquah\, WA 98027 (formerly Issaquah Middle School)
UID:e.684.2073
SEQUENCE:3
DTSTAMP:20260425T015428Z
URL:https://business.issaquahchamber.com/events/details/ribbon-cutting-gibson-ek-09-13-2016-2073
END:VEVENT

END:VCALENDAR
