BEGIN:VCALENDAR
VERSION:2.0
PRODID:-//ChamberMaster//Event Calendar 2.0//EN
METHOD:PUBLISH
X-PUBLISHED-TTL:P3D
REFRESH-INTERVAL:P3D
CALSCALE:GREGORIAN
BEGIN:VEVENT
DTSTART:20151118T000000Z
DTEND:20151118T010000Z
X-MICROSOFT-CDO-ALLDAYEVENT:FALSE
SUMMARY:Ribbon Cutting- Homewood Suites
DESCRIPTION:Join us in celebrating Issaquah's newest Hotel\, Homewood Suites!
X-ALT-DESC;FMTTYPE=text/html:Join us in celebrating Issaquah&#39\;s newest Hotel\, Homewood Suites!&nbsp\;
LOCATION:Homewood Suites 1484 Hyla Ave NW Issaquah\, WA 98027
UID:e.684.1384
SEQUENCE:3
DTSTAMP:20260425T153756Z
URL:https://business.issaquahchamber.com/events/details/ribbon-cutting-homewood-suites-11-17-2015-1384
END:VEVENT

END:VCALENDAR
