BEGIN:VCALENDAR
VERSION:2.0
PRODID:-//ChamberMaster//Event Calendar 2.0//EN
METHOD:PUBLISH
X-PUBLISHED-TTL:P3D
REFRESH-INTERVAL:P3D
CALSCALE:GREGORIAN
BEGIN:VEVENT
DTSTART:20160831T000000Z
DTEND:20160831T003000Z
X-MICROSOFT-CDO-ALLDAYEVENT:FALSE
SUMMARY:RIBBON CUTTING: Issaquah Middle School
DESCRIPTION:Join us as we celebrate the grand reopening of Issaquah Middle School! Ribbon Cutting at 5pm.
X-ALT-DESC;FMTTYPE=text/html:<span style="font-size:12px\;"><span style="font-family:arial\;">Join us as we celebrate the grand reopening of Issaquah Middle School! Ribbon Cutting at 5pm.&nbsp\;</span></span>
LOCATION:Issaquah Middle School 400 2nd Ave SE\, Issaquah\, WA 98027
UID:e.684.2072
SEQUENCE:3
DTSTAMP:20260425T030605Z
URL:https://business.issaquahchamber.com/events/details/ribbon-cutting-issaquah-middle-school-08-30-2016-2072
END:VEVENT

END:VCALENDAR
