BEGIN:VCALENDAR
VERSION:2.0
PRODID:-//ChamberMaster//Event Calendar 2.0//EN
METHOD:PUBLISH
X-PUBLISHED-TTL:P3D
REFRESH-INTERVAL:P3D
CALSCALE:GREGORIAN
BEGIN:VEVENT
DTSTART:20151120T174500Z
DTEND:20151120T180000Z
X-MICROSOFT-CDO-ALLDAYEVENT:FALSE
SUMMARY:Ribbon Cutting- PurpleTrail
DESCRIPTION:Join us in celebrating the grand opening of PurpleTrail!
X-ALT-DESC;FMTTYPE=text/html:Join us in celebrating the grand opening of PurpleTrail!&nbsp\;
LOCATION:1495 11th Ave NW\, Issaquah\, WA 98027 (425) 484-1054
UID:e.684.1411
SEQUENCE:3
DTSTAMP:20260425T153531Z
URL:https://business.issaquahchamber.com/events/details/ribbon-cutting-purpletrail-11-20-2015-1411
END:VEVENT

END:VCALENDAR
