BEGIN:VCALENDAR
VERSION:2.0
PRODID:-//ChamberMaster//Event Calendar 2.0//EN
METHOD:PUBLISH
X-PUBLISHED-TTL:P3D
REFRESH-INTERVAL:P3D
CALSCALE:GREGORIAN
BEGIN:VEVENT
DTSTART:20160117T070000Z
DTEND:20160117T000000Z
X-MICROSOFT-CDO-ALLDAYEVENT:FALSE
SUMMARY:Ribbon Cutting- School of Rock
DESCRIPTION:Join us as we celebrate Issaquah's newest business- School of Rock! Ribbon cutting is at 11am!\n\n\n\nTake a tour and meet their amazing staff and instructors! Get a FREE trial lesson and check out a live performance of the School of Rock Seattle House Band! \n\nDon't miss your chance to win a free guitar! \n\n\n\n\n\n\n\nAbout the host:\n\nAt School of Rock Issaquah\, our Performance Program puts our students front-and-center on a real stage for real performances. Students get to show off their killer music skills while learning serious teamwork as they and their bandmates refine their abilities through some of rock and roll's greatest hits.\n\n \n\nIssaquah students will blow your mind with advanced performances chock-full of hits by famous artists such as Pink Floyd\, Led Zeppelin\, Van Halen\, The Rolling Stones\, AC/DC\, Frank Zappa\, Queen\, and many\, many more! For our students\, real performances breed real skill\, and real fun. \n\n \n\nAll students in Issaquah's Performance Program can expect:\n\n \n\n  Weekly private music lessons on guitar\, bass\, keyboard\, drums\, and/or vocals\n\n  Weekly band rehearsal to get students prepared for real shows\n\n  The experience of performing on stage with their band at real venues\n\n  Key learning in fundamental areas such as stage performance\, harmonies\, musicianship\, and more\n\n  Fun\, music\, and education wrapped into one all-inclusive experience!\n\n\n\nhttp://locations.schoolofrock.com/issaquah
X-ALT-DESC;FMTTYPE=text/html:Join us as we celebrate Issaquah&#39\;s newest business- School of Rock! Ribbon cutting is at 11am!<br />\n<br />\nTake a tour and meet their amazing staff and instructors! Get a FREE trial lesson and check out a live performance of the School of Rock Seattle House Band!&nbsp\;<br />\nDon&#39\;t miss your chance to win a free guitar!&nbsp\;<br />\n<br />\n<br />\n<br />\n<strong>About the host:</strong><br />\n<span style="font-size:9pt\;">At School of Rock Issaquah\, our Performance Program puts our students front-and-center on a real stage for real performances. Students get to show off their killer music skills while learning serious teamwork as they and their bandmates refine their abilities through some of rock and roll&rsquo\;s greatest hits.</span><br />\n&nbsp\;<br />\n<span style="font-size:9pt\;">Issaquah students will blow your mind with advanced performances chock-full of hits by famous artists such as Pink Floyd\, Led Zeppelin\, Van Halen\, The Rolling Stones\, AC/DC\, Frank Zappa\, Queen\, and many\, many more! For our students\, real performances breed real skill\, and real fun. </span><br />\n&nbsp\;<br />\n<span style="font-size:9pt\;">All students in Issaquah&rsquo\;s Performance Program can expect:</span><br />\n&nbsp\;<br />\n<span style="font-size:9pt\;">&bull\; Weekly private music lessons on guitar\, bass\, keyboard\, drums\, and/or vocals</span><br />\n<span style="font-size:9pt\;">&bull\; Weekly band rehearsal to get students prepared for real shows</span><br />\n<span style="font-size:9pt\;">&bull\; The experience of performing on stage with their band at real venues</span><br />\n<span style="font-size:9pt\;">&bull\; Key learning in fundamental areas such as stage performance\, harmonies\, musicianship\, and more</span><br />\n<span style="font-size:9pt\;">&bull\; Fun\, music\, and education wrapped into one all-inclusive experience!</span><br />\n<br />\n<a href="http://locations.schoolofrock.com/issaquah">http://locations.schoolofrock.com/issaquah</a><br />\n<br />\n<br />\n&nbsp\;
LOCATION:1640 NW Gilman Blvd #1\, Issaquah\, WA 98027
UID:e.684.1435
SEQUENCE:3
DTSTAMP:20260425T130536Z
URL:https://business.issaquahchamber.com/events/details/ribbon-cutting-school-of-rock-01-16-2016-1435
END:VEVENT

END:VCALENDAR
