BEGIN:VCALENDAR
VERSION:2.0
PRODID:-//ChamberMaster//Event Calendar 2.0//EN
METHOD:PUBLISH
X-PUBLISHED-TTL:P3D
REFRESH-INTERVAL:P3D
CALSCALE:GREGORIAN
BEGIN:VEVENT
DTSTART:20170428T190000Z
DTEND:20170428T193000Z
X-MICROSOFT-CDO-ALLDAYEVENT:FALSE
SUMMARY:RIBBON CUTTING: Sigillo Cellars
DESCRIPTION:
X-ALT-DESC;FMTTYPE=text/html:
LOCATION:Sigillo Cellars 8086 Railroad Ave SE Snoqualmiem\, WA 98065
UID:e.684.3606
SEQUENCE:3
DTSTAMP:20260424T170532Z
URL:https://business.issaquahchamber.com/events/details/ribbon-cutting-sigillo-cellars-3606
END:VEVENT

END:VCALENDAR
