BEGIN:VCALENDAR
VERSION:2.0
PRODID:-//ChamberMaster//Event Calendar 2.0//EN
METHOD:PUBLISH
X-PUBLISHED-TTL:P3D
REFRESH-INTERVAL:P3D
CALSCALE:GREGORIAN
BEGIN:VEVENT
DTSTART:20150925T190000Z
DTEND:20150925T193000Z
X-MICROSOFT-CDO-ALLDAYEVENT:FALSE
SUMMARY:Ribbon Cutting- The Foot and Ankle Center of Issaquah- CANCELLED
DESCRIPTION:WILL RESCHEDULE \n\n\n\n\n\n\n\nJoin us in celebrating The Foot and Ankle Center of Issaquah! Ribbon cutting will take place at noon!
X-ALT-DESC;FMTTYPE=text/html:<span style="color:#FF0000\;"><span style="font-size:24px\;"><strong>WILL RESCHEDULE&nbsp\;</strong></span></span><br />\n<br />\n<br />\n<br />\nJoin us in celebrating&nbsp\;<span style="font-family:tahoma\,sans-serif\;"><span style="font-size:10.0pt\;">The Foot and Ankle Center of Issaquah! Ribbon cutting will take place at noon!&nbsp\;</span></span>
LOCATION:22510 SE 64th Pl Ste 120 Issaquah\, WA 98027
UID:e.684.1376
SEQUENCE:3
DTSTAMP:20260425T182143Z
URL:https://business.issaquahchamber.com/events/details/ribbon-cutting-the-foot-and-ankle-center-of-issaquah-cancelled-09-25-2015-1376
END:VEVENT

END:VCALENDAR
