BEGIN:VCALENDAR
VERSION:2.0
PRODID:-//ChamberMaster//Event Calendar 2.0//EN
METHOD:PUBLISH
X-PUBLISHED-TTL:P3D
REFRESH-INTERVAL:P3D
CALSCALE:GREGORIAN
BEGIN:VEVENT
DTSTART:20171023T184500Z
DTEND:20171023T194500Z
X-MICROSOFT-CDO-ALLDAYEVENT:FALSE
SUMMARY:RIBBON CUTTING: Waxing the City
DESCRIPTION:Join us in welcoming WAXING THE CITY: ISSAQUAH to the local business community!
X-ALT-DESC;FMTTYPE=text/html:Join us in welcoming WAXING THE CITY: ISSAQUAH to the local business community!
LOCATION:755 NW Gilman Blvd\, Suite I Issaquah\, WA 98027
UID:e.684.3876
SEQUENCE:3
DTSTAMP:20260424T093736Z
URL:https://business.issaquahchamber.com/events/details/ribbon-cutting-waxing-the-city-3876
END:VEVENT

END:VCALENDAR
