BEGIN:VCALENDAR
VERSION:2.0
PRODID:-//ChamberMaster//Event Calendar 2.0//EN
METHOD:PUBLISH
X-PUBLISHED-TTL:P3D
REFRESH-INTERVAL:P3D
CALSCALE:GREGORIAN
BEGIN:VEVENT
DTSTART:20170305T180000Z
DTEND:20170306T010000Z
X-MICROSOFT-CDO-ALLDAYEVENT:FALSE
SUMMARY:Rock and Gem Show
DESCRIPTION:25 Gem\, Jewelry\, & Mineral Dealers\n\nGem & Mineral Displays\n\nStone Sculpture Exhibit\n\n Door Prizes\n\nSilent Auction\n\n Kids Activities
X-ALT-DESC;FMTTYPE=text/html:25 Gem\, Jewelry\, &amp\; Mineral Dealers<br />\nGem &amp\; Mineral Displays<br />\nStone Sculpture Exhibit<br />\n&#8203\;Door Prizes<br />\nSilent Auction<br />\n&#8203\;Kids Activities
LOCATION:Pickering Barn 1730 - 10th Ave NW Issaquah\, WA 98027
UID:e.684.3521
SEQUENCE:3
DTSTAMP:20260424T193846Z
URL:https://business.issaquahchamber.com/events/details/rock-and-gem-show-03-05-2017-3521
END:VEVENT

END:VCALENDAR
