BEGIN:VCALENDAR
VERSION:2.0
PRODID:-//ChamberMaster//Event Calendar 2.0//EN
METHOD:PUBLISH
X-PUBLISHED-TTL:P3D
REFRESH-INTERVAL:P3D
CALSCALE:GREGORIAN
BEGIN:VEVENT
DTSTART:20180303T180000Z
DTEND:20180305T010000Z
X-MICROSOFT-CDO-ALLDAYEVENT:FALSE
SUMMARY:Rock and Gem Show
DESCRIPTION:Annual showcase of amazing treasures of the earth.\n\nGet your pick of the newest stock of crystals\, opals\, natural gems\, mineral specimens\, lapidary rough\, fossils\, fine jewelry\, and supplies.\n\n\n\nWe will have\n\n- 25 dealers\n\n- Kids activities\n\n- Silent auction\n\n- Free stone identification\n\n- Gem and mineral collection displays\n\n- Stone sculpture exhibit
X-ALT-DESC;FMTTYPE=text/html:Annual showcase of amazing treasures of the earth.<br />\nGet your pick of the newest stock of crystals\, opals\, natural gems\, mineral specimens\, lapidary rough\, fossils\, fine jewelry\, and supplies.<br />\n<br />\n<strong>We will have</strong><br />\n- 25 dealers<br />\n- Kids activities<br />\n- Silent auction<br />\n- Free stone identification<br />\n- Gem and mineral collection displays<br />\n- Stone sculpture exhibit
LOCATION:Pickering Barn\, 1730 10th Ave NW Issaquah
UID:e.684.3958
SEQUENCE:3
DTSTAMP:20260424T031148Z
URL:https://business.issaquahchamber.com/events/details/rock-and-gem-show-3958
END:VEVENT

END:VCALENDAR
