BEGIN:VCALENDAR
VERSION:2.0
PRODID:-//ChamberMaster//Event Calendar 2.0//EN
METHOD:PUBLISH
X-PUBLISHED-TTL:P3D
REFRESH-INTERVAL:P3D
CALSCALE:GREGORIAN
BEGIN:VEVENT
DTSTART;VALUE=DATE:20170413
DTEND;VALUE=DATE:20170414
TRANSP:TRANSPARENT
X-MICROSOFT-CDO-ALLDAYEVENT:TRUE
SUMMARY:Roller Coaster STEM workshop
DESCRIPTION:Design and create your own roller coaster using simple physics for a hair-raising experience!\n\nYou're invited as the Issaquah Library hosts a STEM for Fun workshop\, for children ages 8-14.\n\n"Physics of Fun: Roller Coasters" is 4-5 p.m. April 13\, 2017. The program is presented in English and Spanish.\n\nRegistration begins at 10 a.m. March 30. To learn more and register\, go to kcls.org
X-ALT-DESC;FMTTYPE=text/html:<p><span style="font-size: 10pt\;">Design and create your own roller coaster using simple physics for a hair-raising experience!</span></p>\n\n<p>You&#39\;re invited as the Issaquah Library hosts a STEM for Fun workshop\, for children ages 8-14.</p>\n\n<p>&quot\;Physics of Fun: Roller Coasters&quot\; is 4-5 p.m. April 13\, 2017. The program is presented in English and Spanish.</p>\n\n<p>Registration begins at 10 a.m. March 30. To learn more and register\, go to kcls.org</p>\n
LOCATION:10 West Sunset Way Issaquah WA 98027
UID:e.684.3580
SEQUENCE:3
DTSTAMP:20260424T170207Z
URL:https://business.issaquahchamber.com/events/details/roller-coaster-stem-workshop-3580
END:VEVENT

END:VCALENDAR
