BEGIN:VCALENDAR
VERSION:2.0
PRODID:-//ChamberMaster//Event Calendar 2.0//EN
METHOD:PUBLISH
X-PUBLISHED-TTL:P3D
REFRESH-INTERVAL:P3D
CALSCALE:GREGORIAN
BEGIN:VEVENT
DTSTART;VALUE=DATE:20171007
DTEND;VALUE=DATE:20171009
TRANSP:TRANSPARENT
X-MICROSOFT-CDO-ALLDAYEVENT:TRUE
SUMMARY:SALMON DAYS
DESCRIPTION:Annual Salmon Festival that celebrates the return of the salmon!\n\n There are many things for the family to do and explore\, some of which include:\n\n Hundreds of Artist Booths\n\n Salmon BBQ\n\nDock Dogs\n\nParade\n\nFish Prints\n\n Beer Garden\n\n 5k Run\n\nLive Entertainment\n\n International Food Court\n\nFree Inflatables\n\nGames for Kids\n\n Live Art\n\n & of course\, Spawning Salmon!
X-ALT-DESC;FMTTYPE=text/html:<div>Annual Salmon Festival that celebrates the return of the salmon!<br />\n&#8203\;There are many things for the family to do and explore\, some of which include:<br />\n&#8203\;Hundreds of Artist Booths<br />\n&#8203\;Salmon BBQ<br />\nDock Dogs<br />\nParade<br />\nFish Prints<br />\n&#8203\;Beer Garden<br />\n&#8203\;5k Run<br />\nLive Entertainment<br />\n&#8203\;International Food Court<br />\nFree Inflatables<br />\nGames for Kids<br />\n&#8203\;Live Art<br />\n&#8203\;&amp\; of course\, Spawning Salmon!</div>\n
LOCATION:Downtown Issaquah WA 98027
UID:e.684.3570
SEQUENCE:3
DTSTAMP:20260424T091304Z
URL:https://business.issaquahchamber.com/events/details/salmon-days-3570
END:VEVENT

END:VCALENDAR
