BEGIN:VCALENDAR
VERSION:2.0
PRODID:-//ChamberMaster//Event Calendar 2.0//EN
METHOD:PUBLISH
X-PUBLISHED-TTL:P3D
REFRESH-INTERVAL:P3D
CALSCALE:GREGORIAN
BEGIN:VEVENT
DTSTART:20160313T020000Z
DTEND:20160313T050000Z
X-MICROSOFT-CDO-ALLDAYEVENT:FALSE
SUMMARY:Sammi Awards
DESCRIPTION:The Sammi Awards Event will be recognizing individuals who are dedicated volunteers of our community. All are welcome and this event is free. Visit: http://www.issaquahreporter.com/calendar/#/?i=1 for more info.
X-ALT-DESC;FMTTYPE=text/html:The Sammi Awards Event will be recognizing individuals who are dedicated volunteers of our community. All are welcome and this event is free. Visit:&nbsp\;http://www.issaquahreporter.com/calendar/#/?i=1 for more info.
LOCATION:Sammamish Boys & Girls Club 825 228th Ave NE Sammamish\, WA 98074
UID:e.684.1973
SEQUENCE:3
DTSTAMP:20260425T112646Z
URL:https://business.issaquahchamber.com/events/details/sammi-awards-03-12-2016-1973
END:VEVENT

END:VCALENDAR
