BEGIN:VCALENDAR
VERSION:2.0
PRODID:-//ChamberMaster//Event Calendar 2.0//EN
METHOD:PUBLISH
X-PUBLISHED-TTL:P3D
REFRESH-INTERVAL:P3D
CALSCALE:GREGORIAN
BEGIN:VEVENT
DTSTART:20151128T003000Z
DTEND:20151128T003000Z
X-MICROSOFT-CDO-ALLDAYEVENT:FALSE
SUMMARY:Santa Arrives at Grand Ridge Plaza!!
DESCRIPTION:Santa will be arriving at Grand Ridge Plaza on the 27th! Live entertainment\, holiday treats\, and Santa!
X-ALT-DESC;FMTTYPE=text/html:Santa will be arriving at Grand Ridge Plaza on the 27th! Live entertainment\, holiday treats\, and Santa!
LOCATION:Issaquah Highlands: Exit 18 Off I-90
UID:e.684.1407
SEQUENCE:3
DTSTAMP:20260425T153836Z
URL:https://business.issaquahchamber.com/events/details/santa-arrives-at-grand-ridge-plaza-11-27-2015-1407
END:VEVENT

END:VCALENDAR
