BEGIN:VCALENDAR
VERSION:2.0
PRODID:-//ChamberMaster//Event Calendar 2.0//EN
METHOD:PUBLISH
X-PUBLISHED-TTL:P3D
REFRESH-INTERVAL:P3D
CALSCALE:GREGORIAN
BEGIN:VEVENT
DTSTART:20171109T170000Z
DTEND:20171109T220000Z
X-MICROSOFT-CDO-ALLDAYEVENT:FALSE
SUMMARY:SmallBizSuccess Virtual Conference
DESCRIPTION:This conference is a half day of learning and online interactions in a virtual environment. This event offers ten educational webinars\, business mentoring\, exhibitor booths\, networking chat rooms\, prizes and a resource center - providing the information you need to succeed as a small business owner.\n\n\n\nYou will hear from industry experts\, including Google\, AT&T\, ComplyRight\, Thryv\, Block Advisors and more.\n\n\n\n Find the Conference agenda and register here - https://www.score.org/event/smallbizsuccess-virtual-conference-live
X-ALT-DESC;FMTTYPE=text/html:This conference is a half day of learning and online interactions in a virtual environment. This&nbsp\;event&nbsp\;offers ten educational webinars\,&nbsp\;business mentoring\, exhibitor booths\, networking chat rooms\, prizes and a resource center -&nbsp\;providing the&nbsp\;information you need to succeed as a small business owner.<br />\n<br />\nYou will hear from industry experts\, including Google\, AT&amp\;T\, ComplyRight\, Thryv\, Block Advisors&nbsp\;and more.<br />\n<br />\n&#8203\;Find the Conference agenda and register here -&nbsp\;<a href="https://www.score.org/event/smallbizsuccess-virtual-conference-live">https://www.score.org/event/smallbizsuccess-virtual-conference-live</a>
LOCATION:
UID:e.684.3889
SEQUENCE:3
DTSTAMP:20260424T075019Z
URL:https://business.issaquahchamber.com/events/details/smallbizsuccess-virtual-conference-3889
END:VEVENT

END:VCALENDAR
