BEGIN:VCALENDAR
VERSION:2.0
PRODID:-//ChamberMaster//Event Calendar 2.0//EN
METHOD:PUBLISH
X-PUBLISHED-TTL:P3D
REFRESH-INTERVAL:P3D
CALSCALE:GREGORIAN
BEGIN:VEVENT
DTSTART:20170314T023000Z
DTEND:20170314T040000Z
X-MICROSOFT-CDO-ALLDAYEVENT:FALSE
SUMMARY:Spring Concert
DESCRIPTION:You're invited as the Issaquah Philharmonic Orchestra performs a free spring concert. The family-friendly event will include free cookies and punch for the audience at intermission.\n\n\n\nChildren are welcomed and encouraged to attend\; no need to dress up. Audience members can talk with the musicians during intermission.\n\n\n\nThe concert is sponsored by the City of Issaquah Arts Commission.
X-ALT-DESC;FMTTYPE=text/html:You&#39\;re invited as the Issaquah Philharmonic Orchestra performs a free spring concert. The family-friendly event will include free cookies and punch for the audience at intermission.<br />\n<br />\nChildren are welcomed and encouraged to attend\; no need to dress up. Audience members can talk with the musicians during intermission.<br />\n<br />\nThe concert is sponsored by the City of Issaquah Arts Commission.
LOCATION:Skyline High School 1122 228th Ave SE Sammamish\, WA 98075
UID:e.684.3525
SEQUENCE:3
DTSTAMP:20260424T182442Z
URL:https://business.issaquahchamber.com/events/details/spring-concert-3525
END:VEVENT

END:VCALENDAR
