BEGIN:VCALENDAR
VERSION:2.0
PRODID:-//ChamberMaster//Event Calendar 2.0//EN
METHOD:PUBLISH
X-PUBLISHED-TTL:P3D
REFRESH-INTERVAL:P3D
CALSCALE:GREGORIAN
BEGIN:VEVENT
DTSTART;VALUE=DATE:20170319
DTEND;VALUE=DATE:20170320
TRANSP:TRANSPARENT
X-MICROSOFT-CDO-ALLDAYEVENT:TRUE
SUMMARY:State Park Free Day
DESCRIPTION:Enjoy Washington's state parks for free throughout 2017. In honor of Washington State Parks' 104th birthday\, March 19 is a state parks free day.
X-ALT-DESC;FMTTYPE=text/html:Enjoy Washington&#39\;s state parks for free throughout 2017. In honor of Washington State Parks&#39\; 104th birthday\, March 19 is a state parks free day.
LOCATION:Washington State Parks
UID:e.684.3500
SEQUENCE:3
DTSTAMP:20260424T182539Z
URL:https://business.issaquahchamber.com/events/details/state-park-free-day-3500
END:VEVENT

END:VCALENDAR
