BEGIN:VCALENDAR
VERSION:2.0
PRODID:-//ChamberMaster//Event Calendar 2.0//EN
METHOD:PUBLISH
X-PUBLISHED-TTL:P3D
REFRESH-INTERVAL:P3D
CALSCALE:GREGORIAN
BEGIN:VEVENT
DTSTART;VALUE=DATE:20170930
DTEND;VALUE=DATE:20171001
TRANSP:TRANSPARENT
X-MICROSOFT-CDO-ALLDAYEVENT:TRUE
SUMMARY:State Park Free Day
DESCRIPTION:All state parks will not require a Discover Pass due to National Public Lands Day. Go out and have fun!
X-ALT-DESC;FMTTYPE=text/html:All state parks will not require a Discover Pass due to National Public Lands Day. Go out and have fun!
LOCATION:All State Parks
UID:e.684.3831
SEQUENCE:3
DTSTAMP:20260424T104657Z
URL:https://business.issaquahchamber.com/events/details/state-park-free-day-3831
END:VEVENT

END:VCALENDAR
