BEGIN:VCALENDAR
VERSION:2.0
PRODID:-//ChamberMaster//Event Calendar 2.0//EN
METHOD:PUBLISH
X-PUBLISHED-TTL:P3D
REFRESH-INTERVAL:P3D
CALSCALE:GREGORIAN
BEGIN:VEVENT
DTSTART:20170527T180000Z
DTEND:20170528T030000Z
X-MICROSOFT-CDO-ALLDAYEVENT:FALSE
SUMMARY:Summer Opening Event
DESCRIPTION:Dear Youth!!\n\n\n\nOn Saturday May 27th\, A combination of Bellingham\, Portland\, and Everett youth will gather together at Lake Sammamish State Park. Due to Various youth locations\, follow your youth leaders' directions on transportation in order to arrive at the park @ 11am.\n\n\n\nPlease take the time to register with your youth leader ASAP!!\n\n\n\nThis event will cost $10/ person\n\nAND.... $10/ vehicle for parking\n\n\n\nJoin us for volleyball\, food\, and great fellowship! Invite your friends and we will see you there!\n\n\n\nBe Blessed!
X-ALT-DESC;FMTTYPE=text/html:<span class="_4n-j _3cht fsl" data-testid="event-permalink-details">Dear Youth!!<br />\n<br />\nOn Saturday May 27th\, A combination of Bellingham\, Portland\, and Everett youth will gather together at Lake Sammamish State Park. Due to Various youth locations\, follow your youth leaders&#39\; directions on transportation in order to arrive at the park @ 11am.<br />\n<br />\nPlease take the time to register with your youth leader ASAP!!<br />\n<br />\nThis event will cost $10/ person<br />\nAND.... $10/ vehicle for parking<br />\n<br />\nJoin us for volleyball\, food\, and great fellowship! Invite your friends and we will see you there!<br />\n<br />\nBe Blessed!</span>
LOCATION:Lake Sammamish State Park 2000 NW Sammamish Rd\, Issaquah\, WA 98027``
UID:e.684.3636
SEQUENCE:3
DTSTAMP:20260424T155704Z
URL:https://business.issaquahchamber.com/events/details/summer-opening-event-3636
END:VEVENT

END:VCALENDAR
