BEGIN:VCALENDAR
VERSION:2.0
PRODID:-//ChamberMaster//Event Calendar 2.0//EN
METHOD:PUBLISH
X-PUBLISHED-TTL:P3D
REFRESH-INTERVAL:P3D
CALSCALE:GREGORIAN
BEGIN:VEVENT
DTSTART:20170408T020000Z
DTEND:20170408T040000Z
X-MICROSOFT-CDO-ALLDAYEVENT:FALSE
SUMMARY:Super Soaker Family Fun Night
DESCRIPTION:Bring your Super Soaker to the pool and get ready for some target practice. There will be targets and some all-out battle zones!\n\n\n\nAdmission is $5 for adults\, $4 for youth and $12 for families at the door.
X-ALT-DESC;FMTTYPE=text/html:<span class="_4n-j _3cht fsl" data-testid="event-permalink-details">Bring your Super Soaker to the pool and get ready for some target practice. There will be targets and some all-out battle zones!<br />\n<br />\nAdmission is $5 for adults\, $4 for youth and $12 for families at the door.</span>
LOCATION:Julius Boehm Pool - Issaquah Aquatic Center 50 SE Clark St\, Issaquah\, Washington 98027
UID:e.684.3579
SEQUENCE:3
DTSTAMP:20260424T170838Z
URL:https://business.issaquahchamber.com/events/details/super-soaker-family-fun-night-3579
END:VEVENT

END:VCALENDAR
