BEGIN:VCALENDAR
VERSION:2.0
PRODID:-//ChamberMaster//Event Calendar 2.0//EN
METHOD:PUBLISH
X-PUBLISHED-TTL:P3D
REFRESH-INTERVAL:P3D
CALSCALE:GREGORIAN
BEGIN:VEVENT
DTSTART:20170923T180000Z
DTEND:20170923T210000Z
X-MICROSOFT-CDO-ALLDAYEVENT:FALSE
SUMMARY:The Grange - Customer Appreciation Day
DESCRIPTION:Join the Grange for our Annual Community Appreciation Day (previously known as 'Customer Appreciation Day').\n\n\n\nThis year we will have Food Trucks\, a Band\, Pet Adoptions\, Store-wide Sale\, Costumed Character\, 20+ Animals from Animal Encounters\, Free BBQ\, Ice Cream\, Raffle Prizes\, Games\, Giveaways\, Swag Bags for the first 50 attendees and more!
X-ALT-DESC;FMTTYPE=text/html:<span class="_4n-j _fbReactionComponent__eventDetailsContentTags fsl" data-testid="event-permalink-details">Join&nbsp\;the Grange&nbsp\;for our Annual Community Appreciation Day (previously known as &#39\;Customer Appreciation Day&#39\;).<br />\n<br />\nThis year we will have Food Trucks\, a Band\, Pet Adoptions\, Store-wide Sale\, Costumed Character\, 20+ Animals from Animal Encounters\, Free BBQ\, Ice Cream\, Raffle Prizes\, Games\, Giveaways\, Swag Bags for the first 50 attendees and more!</span>
LOCATION:The Grange 145 NE Gilman Blvd Issaquah WA 98027
UID:e.684.3669
SEQUENCE:3
DTSTAMP:20260424T104834Z
URL:https://business.issaquahchamber.com/events/details/the-grange-customer-appreciation-day-3669
END:VEVENT

END:VCALENDAR
