BEGIN:VCALENDAR
VERSION:2.0
PRODID:-//ChamberMaster//Event Calendar 2.0//EN
METHOD:PUBLISH
X-PUBLISHED-TTL:P3D
REFRESH-INTERVAL:P3D
CALSCALE:GREGORIAN
BEGIN:VEVENT
DTSTART:20170729T160000Z
DTEND:20170729T180000Z
X-MICROSOFT-CDO-ALLDAYEVENT:FALSE
SUMMARY:The Great Inflatable Race Seattle
DESCRIPTION:
X-ALT-DESC;FMTTYPE=text/html:
LOCATION:Lake Sammamish State Park 2000 NW Sammamish Rd\, Issaquah\, WA 98027
UID:e.684.3635
SEQUENCE:3
DTSTAMP:20260424T143900Z
URL:https://business.issaquahchamber.com/events/details/the-great-inflatable-race-seattle-3635
END:VEVENT

END:VCALENDAR
