BEGIN:VCALENDAR
VERSION:2.0
PRODID:-//ChamberMaster//Event Calendar 2.0//EN
METHOD:PUBLISH
X-PUBLISHED-TTL:P3D
REFRESH-INTERVAL:P3D
CALSCALE:GREGORIAN
BEGIN:VEVENT
DTSTART:20170221T190000Z
DTEND:20170221T200000Z
X-MICROSOFT-CDO-ALLDAYEVENT:FALSE
SUMMARY:The Tortoise & the Hare: A Play
DESCRIPTION:The Tortoise and the Hare: A Play \n\nTuesday\, February 21\, 2017 (11:00AM   12:00PM) \n\nIssaquah\n\n\n\n\n\nJoin the Issaquah Library and Last Leaf Theater for a performance of the Tortoise and the Hare\, one of the most popular of Aesop's Fables. All ages are welcome.
X-ALT-DESC;FMTTYPE=text/html:<span class="ember-view" id="ember2955">The Tortoise and the Hare: A Play </span>\n<div class="event-summary-box">\n<div class="event-date"><span>Tuesday\, February 21\, 2017</span> <span>(11:00AM &ndash\; 12:00PM) </span></div>\n\n<div class="event-location" itemprop="location" itemscope=""><span itemprop="name">Issaquah</span></div>\n</div>\n\n<div class="row event-desc-container"><!-- Description -->\n<div class="col-sm-7 event-description" data-bindattr-2960="2960">\n<div class="event-decription-content" itemprop="description">\n<p>Join the Issaquah Library and Last Leaf Theater for a performance of the Tortoise and the Hare\, one of the most popular of Aesop&#39\;s Fables. All ages are welcome.</p>\n</div>\n</div>\n</div>\n
LOCATION:Issaquah Library 10 West Sunset Way Issaquah WA 98027
UID:e.684.3491
SEQUENCE:3
DTSTAMP:20260424T193923Z
URL:https://business.issaquahchamber.com/events/details/the-tortoise-the-hare-a-play-3491
END:VEVENT

END:VCALENDAR
