BEGIN:VCALENDAR
VERSION:2.0
PRODID:-//ChamberMaster//Event Calendar 2.0//EN
METHOD:PUBLISH
X-PUBLISHED-TTL:P3D
REFRESH-INTERVAL:P3D
CALSCALE:GREGORIAN
BEGIN:VEVENT
DTSTART:20180609T160000Z
DTEND:20180609T170000Z
X-MICROSOFT-CDO-ALLDAYEVENT:FALSE
SUMMARY:Touch A Truck
DESCRIPTION:Here is your chance to touch a real fire engine truck\, only at Pickering Barn!
X-ALT-DESC;FMTTYPE=text/html:Here is your chance to touch a real fire engine truck\, only at Pickering Barn!
LOCATION:Pickering Barn
UID:e.684.5403
SEQUENCE:3
DTSTAMP:20260423T233339Z
URL:https://business.issaquahchamber.com/events/details/touch-a-truck-5403
END:VEVENT

END:VCALENDAR
