BEGIN:VCALENDAR
VERSION:2.0
PRODID:-//ChamberMaster//Event Calendar 2.0//EN
METHOD:PUBLISH
X-PUBLISHED-TTL:P3D
REFRESH-INTERVAL:P3D
CALSCALE:GREGORIAN
BEGIN:VEVENT
DTSTART:20160311T030000Z
DTEND:20160311T043000Z
X-MICROSOFT-CDO-ALLDAYEVENT:FALSE
SUMMARY:Traffic Task Force
DESCRIPTION:Meet with the Issaquah Traffic Task Force to learn about potential taxes and share your thoughts on these issues.
X-ALT-DESC;FMTTYPE=text/html:<span style="color: rgb(68\, 68\, 68)\; font-family: Arial\, Helvetica\, sans-serif\; font-size: 14px\; line-height: 18.2000007629395px\;">Meet with the Issaquah Traffic Task Force to learn about potential taxes and share your thoughts on these&nbsp\;issues.&nbsp\;</span>
LOCATION:City Hall's Eagle Room\, 130 E. Sunset Way
UID:e.684.1750
SEQUENCE:3
DTSTAMP:20260425T112307Z
URL:https://business.issaquahchamber.com/events/details/traffic-task-force-03-10-2016-1750
END:VEVENT

END:VCALENDAR
