BEGIN:VCALENDAR
VERSION:2.0
PRODID:-//ChamberMaster//Event Calendar 2.0//EN
METHOD:PUBLISH
X-PUBLISHED-TTL:P3D
REFRESH-INTERVAL:P3D
CALSCALE:GREGORIAN
BEGIN:VEVENT
DTSTART:20160211T030000Z
DTEND:20160211T043000Z
X-MICROSOFT-CDO-ALLDAYEVENT:FALSE
SUMMARY:Traffic Task Force Open House
DESCRIPTION:Meet with the Issaquah Traffic Task Force to learn about potential taxes and share your thoughts on these issues.
X-ALT-DESC;FMTTYPE=text/html:Meet with the Issaquah Traffic Task Force to learn about potential taxes and share your thoughts on these&nbsp\;issues.&nbsp\;
LOCATION:Blakely Hall\, 2550 N.E. Park Drive
UID:e.684.1749
SEQUENCE:3
DTSTAMP:20260425T124525Z
URL:https://business.issaquahchamber.com/events/details/traffic-task-force-open-house-02-10-2016-1749
END:VEVENT

END:VCALENDAR
