BEGIN:VCALENDAR
VERSION:2.0
PRODID:-//ChamberMaster//Event Calendar 2.0//EN
METHOD:PUBLISH
X-PUBLISHED-TTL:P3D
REFRESH-INTERVAL:P3D
CALSCALE:GREGORIAN
BEGIN:VEVENT
DTSTART:20170415T170000Z
DTEND:20170415T210000Z
X-MICROSOFT-CDO-ALLDAYEVENT:FALSE
SUMMARY:Trail Work and Tree Planting
DESCRIPTION:You're invited to celebrate Arbor Day by building a trail and planting trees!\n\n\n\nWork will take place on both City and state park land\, and the new trail will allow hikers and joggers to bypass the noisy sidewalk and intersections along Northwest Sammamish Road and instead enter Lake Sammamish State Park by following Issaquah Creek through an older forest restoration project site.\n\n\n\nLocated behind the VCA Alpine Animal Hospital\, the new wood chip trail will be about 1\,000 feet long\, and will be vital to connect the City's Pickering Reach Trail along Issaquah Creek to trails within the beautiful 500 acres of Lake Sammamish State Park.
X-ALT-DESC;FMTTYPE=text/html:You&#39\;re invited to celebrate Arbor Day by building a trail and planting trees!<br />\n<br />\nWork will take place on both City and state park land\, and the new trail will allow hikers and joggers to bypass the noisy sidewalk and intersections along Northwest Sammamish Road and instead enter Lake Sammamish State Park by following Issaquah Creek through an older forest restoration project site.<br />\n<br />\nLocated behind the VCA Alpine Animal Hospital\, the new wood chip trail will be about 1\,000 feet long\, and will be vital to connect the City&#39\;s Pickering Reach Trail along Issaquah Creek to trails within the beautiful 500 acres of Lake Sammamish State Park.
LOCATION:Behind VCA Alpine Animal Hospital 888 Northwest Sammamish Road Issaquah\, WA 98027
UID:e.684.3526
SEQUENCE:3
DTSTAMP:20260424T170424Z
URL:https://business.issaquahchamber.com/events/details/trail-work-and-tree-planting-3526
END:VEVENT

END:VCALENDAR
