BEGIN:VCALENDAR
VERSION:2.0
PRODID:-//ChamberMaster//Event Calendar 2.0//EN
METHOD:PUBLISH
X-PUBLISHED-TTL:P3D
REFRESH-INTERVAL:P3D
CALSCALE:GREGORIAN
BEGIN:VEVENT
DTSTART:20260521T010000Z
DTEND:20260521T040000Z
X-MICROSOFT-CDO-ALLDAYEVENT:FALSE
SUMMARY:Trivia Night in Support of Encompass
DESCRIPTION:Calling all trivia enthusiasts! \n\nWe invite you to join us for an entertaining evening of friendly competition! \n\n \n\nWHEN:  Wednesday\, May 20\, 2026\n\n6:00-7:00 pm - Doors\, Dinner\, and Drinks\n\n7:00-9:00 pm  Trivia!\n\n \n\nWHAT:  A professional host for six rounds of not-too-challenging\, multi-media trivia\n\n- Dinner with dessert\n\n- Local beer\, wine and beverages\n\n- An amazing prize package for the winning team\n\n \n\nWHERE: North Fork Farms\n\n 43010 SE 79th Street\, Snoqualmie\, WA 98065\n\n \n\nHOW: Purchase tickets here\n\nTickets are $50 per person and include trivia\, dinner\, and drinks.\n\nTeams of 6-8 are recommended\, but not required.\n\nDon't have a team? No problem! We can seat you with others at the event.\n\n\n\nRegistration closes on May 15\, 2026
X-ALT-DESC;FMTTYPE=text/html:<p style="text-align:center"><span style="font-family:calibri\; font-size:14pt"><strong>Calling all trivia enthusiasts!&nbsp\;</strong><br />\nWe invite you to join us for an entertaining evening of friendly competition!&nbsp\;</span><br />\n&nbsp\;</p>\n\n<p style="text-align:center"><span style="font-family:calibri\; font-size:14pt"><strong><span style="color:rgb(149\, 55\, 52)">WHEN:&nbsp\;&nbsp\;</span></strong><span style="color:rgb(64\, 29\, 27)">Wednesday\, May 20\, 2026</span></span></p>\n\n<p style="text-align:center"><span style="color:rgb(64\, 29\, 27)\; font-family:calibri\; font-size:14pt">6:00-7:00 pm - Doors\, Dinner\, and Drinks</span></p>\n\n<p style="text-align:center"><span style="color:rgb(64\, 29\, 27)\; font-family:calibri\; font-size:14pt">7:00-9:00 pm &ndash\;Trivia!</span></p>\n\n<p style="text-align:center"><span style="color:rgb(64\, 29\, 27)\; font-family:calibri\; font-size:14pt">&nbsp\;</span></p>\n\n<p style="text-align:center"><span style="color:rgb(64\, 29\, 27)\; font-family:calibri\; font-size:14pt"><strong><span style="color:rgb(149\, 55\, 52)">WHAT:</span></strong>&nbsp\;&nbsp\;</span><span style="font-family:calibri\; font-size:14pt">A professional host for six rounds of not-too-challenging\, multi-media trivia</span></p>\n\n<p style="text-align:center"><span style="font-family:calibri\; font-size:14pt">- Dinner with dessert</span></p>\n\n<p style="text-align:center"><span style="font-family:calibri\; font-size:14pt">- Local beer\, wine and beverages</span></p>\n\n<p style="text-align:center"><span style="font-family:calibri\; font-size:14pt">- An amazing prize package for the winning team</span></p>\n\n<p style="text-align:center"><span style="font-family:calibri\; font-size:14pt">&nbsp\;</span></p>\n\n<p style="text-align:center"><span style="font-family:calibri\; font-size:14pt"><strong><span style="color:rgb(78\, 132\, 196)"><span style="color:rgb(149\, 55\, 52)">WHERE</span><span style="color:rgb(149\, 55\, 52)">:</span>&nbsp\;</span></strong><a href="https://encompassnw.ejoinme.org/locationandparking" style="box-sizing: border-box\; margin: 0px\; padding: 0px\; border: 0px\; font-style: inherit\; font-variant: inherit\; font-weight: inherit\; font-stretch: inherit\; font-size: 14pt\; line-height: inherit\; font-family: inherit\; font-optical-sizing: inherit\; font-size-adjust: inherit\; font-kerning: inherit\; font-feature-settings: inherit\; font-variation-settings: inherit\; font-language-override: inherit\; vertical-align: baseline\; color: rgb(78\, 132\, 196)\; text-decoration: none\; outline: 0px\; background-color: transparent\;"><strong><span style="font-family:inherit\; font-size:14pt">North Fork Farms</span></strong></a></span></p>\n\n<p style="text-align:center"><span style="font-family:calibri\; font-size:14pt">&nbsp\;43010 SE 79th Street\, Snoqualmie\, WA 98065</span></p>\n\n<p style="text-align:center"><span style="font-family:calibri\; font-size:14pt">&nbsp\;</span></p>\n\n<p style="text-align:center"><span style="font-family:calibri\; font-size:18px"><strong><span style="color:rgb(149\, 55\, 52)">HOW:&nbsp\;</span></strong><span style="font-family:inherit\; font-size:14pt">Purchase tickets<span style="font-family:inherit\; font-size:14pt">&nbsp\;<a href="http://encompassnw.ejoinme.org/2026triviaregistration" style="box-sizing: border-box\; margin: 0px\; padding: 0px\; border: 0px\; font-style: inherit\; font-variant: inherit\; font-weight: inherit\; font-stretch: inherit\; font-size: 14pt\; line-height: inherit\; font-family: inherit\; font-optical-sizing: inherit\; font-size-adjust: inherit\; font-kerning: inherit\; font-feature-settings: inherit\; font-variation-settings: inherit\; font-language-override: inherit\; vertical-align: baseline\; color: rgb(78\, 132\, 196)\; text-decoration: none\; outline: 0px\; background-color: transparent\;"><strong><u>here</u></strong></a></span></span></span></p>\n\n<p style="text-align:center"><span style="font-family:calibri\; font-size:18px">Tickets are&nbsp\;$50 per person and include trivia\, dinner\, and drinks.</span></p>\n\n<p style="text-align:center"><span style="font-family:calibri\; font-size:18px">Teams of 6-8 are recommended\, but not required.</span></p>\n\n<p style="text-align:center"><span style="font-family:calibri\; font-size:18px">Don&#39\;t have a team? No problem! We can seat you with others at the event.<br />\n<br />\nRegistration closes on May 15\, 2026</span></p>\n
LOCATION:North Fork Farms 43010 SE 79th Street\, Snoqualmie\, WA 98065
UID:e.684.9316
SEQUENCE:3
DTSTAMP:20260422T232911Z
URL:https://business.issaquahchamber.com/events/details/trivia-night-in-support-of-encompass-05-20-2026-9316
END:VEVENT

END:VCALENDAR
