BEGIN:VCALENDAR
VERSION:2.0
PRODID:-//ChamberMaster//Event Calendar 2.0//EN
METHOD:PUBLISH
X-PUBLISHED-TTL:P3D
REFRESH-INTERVAL:P3D
CALSCALE:GREGORIAN
BEGIN:VEVENT
DTSTART:20171110T190000Z
DTEND:20171110T210000Z
X-MICROSOFT-CDO-ALLDAYEVENT:FALSE
SUMMARY:Veteran's Day Service
DESCRIPTION:Join VFW Post #3436 for a Veterans Day Service. The Liberty High School Junior Naval ROTC Color Guard will open the ceremony\, which will also include patriotic music\, recognition of local veterans and a video of the Puget Sound Honor Flight's September trip to Washington DC for WWII\, Korean War and Vietnam War veterans. Lieutenant Colonel Brian Fleming\, Commander of the Local U.S. Army Recruiting Battalion\, will be the keynote speaker.\n\n\n\nThe VFW Post #3436 will also present U.S. flags to the City of Issaquah in honor of the men and women currently serving on active duty. VFW Post #3436 Commander Dean Van Dyke will be the master of ceremonies again this year.
X-ALT-DESC;FMTTYPE=text/html:Join VFW Post #3436 for a Veterans Day Service. The Liberty High School Junior Naval ROTC Color Guard will open the ceremony\, which will also include patriotic music\, recognition of local veterans and a video of the Puget Sound Honor Flight&#39\;s September trip to Washington DC for WWII\, Korean War and Vietnam War veterans. Lieutenant Colonel Brian Fleming\, Commander of the Local U.S. Army Recruiting Battalion\, will be the keynote speaker.<br />\n<br />\nThe VFW Post #3436 will also present U.S. flags to the City of Issaquah in honor of the men and women currently serving on active duty. VFW Post #3436 Commander Dean Van Dyke will be the master of ceremonies again this year.
LOCATION:Issaquah Senior Center 75 N.E. Creek Way
UID:e.684.3888
SEQUENCE:3
DTSTAMP:20260424T091447Z
URL:https://business.issaquahchamber.com/events/details/veteran-s-day-service-3888
END:VEVENT

END:VCALENDAR
