BEGIN:VCALENDAR
VERSION:2.0
PRODID:-//ChamberMaster//Event Calendar 2.0//EN
METHOD:PUBLISH
X-PUBLISHED-TTL:P3D
REFRESH-INTERVAL:P3D
CALSCALE:GREGORIAN
BEGIN:VEVENT
DTSTART;VALUE=DATE:20170415
DTEND;VALUE=DATE:20170416
TRANSP:TRANSPARENT
X-MICROSOFT-CDO-ALLDAYEVENT:TRUE
SUMMARY:WA Parks Free Day
DESCRIPTION:If you missed out on Washington State Park's 104th birthday and free day\, not to worry\, there are still eight free days left in 2017 and the next one is April 15 - Springtime free day! We'll see you at your local state park!
X-ALT-DESC;FMTTYPE=text/html:<span style="margin: 0px\; color: black\; font-family: &quot\;Arial&quot\;\,sans-serif\; font-size: 10.5pt\;">If you missed out on Washington State Park&#39\;s 104th birthday and free day\, not to worry\, there are still eight free days left in 2017 and the next one is April 15 - Springtime free day! We&#39\;ll see you at your local state park! </span>
LOCATION:All WA State Parks
UID:e.684.3537
SEQUENCE:3
DTSTAMP:20260424T170609Z
URL:https://business.issaquahchamber.com/events/details/wa-parks-free-day-3537
END:VEVENT

END:VCALENDAR
