BEGIN:VCALENDAR
VERSION:2.0
PRODID:-//ChamberMaster//Event Calendar 2.0//EN
METHOD:PUBLISH
X-PUBLISHED-TTL:P3D
REFRESH-INTERVAL:P3D
CALSCALE:GREGORIAN
BEGIN:VEVENT
DTSTART:20170520T010000Z
DTEND:20170520T040000Z
X-MICROSOFT-CDO-ALLDAYEVENT:FALSE
SUMMARY:Wine Walk
DESCRIPTION:Join us for the  Gilman Village Wine Walk and enjoy live music\, snacks and local boutique wines poured in various tasting locations at the unique Gilman Village retail shops.
X-ALT-DESC;FMTTYPE=text/html:Join us for the &nbsp\;Gilman Village Wine Walk and enjoy live music\, snacks and local boutique wines poured in various tasting locations at the unique Gilman Village retail shops.
LOCATION:Gilman Village 317 NW Gilman Blvd #32 Issaquah\, WA 98027
UID:e.684.3539
SEQUENCE:3
DTSTAMP:20260424T155420Z
URL:https://business.issaquahchamber.com/events/details/wine-walk-05-19-2017-3539
END:VEVENT

END:VCALENDAR
