BEGIN:VCALENDAR
VERSION:2.0
PRODID:-//ChamberMaster//Event Calendar 2.0//EN
METHOD:PUBLISH
X-PUBLISHED-TTL:P3D
REFRESH-INTERVAL:P3D
CALSCALE:GREGORIAN
BEGIN:VEVENT
DTSTART:20151121T020000Z
DTEND:20151121T050000Z
X-MICROSOFT-CDO-ALLDAYEVENT:FALSE
SUMMARY:Wine Walk
DESCRIPTION:Enjoy live music\, shop for the holiday season in Gilman Village's boutique shops\, and enjoy fine drinking.\n\nwww.downtownissaquah.com
X-ALT-DESC;FMTTYPE=text/html:Enjoy live music\, shop for the holiday season in Gilman Village&#39\;s boutique shops\, and enjoy fine drinking.<br />\nwww.downtownissaquah.com
LOCATION:Check in at Pinto Portraits. Takes place in Downtown Issaquah
UID:e.684.1410
SEQUENCE:3
DTSTAMP:20260425T153214Z
URL:https://business.issaquahchamber.com/events/details/wine-walk-11-20-2015-1410
END:VEVENT

END:VCALENDAR
