BEGIN:VCALENDAR
VERSION:2.0
PRODID:-//ChamberMaster//Event Calendar 2.0//EN
METHOD:PUBLISH
X-PUBLISHED-TTL:P3D
REFRESH-INTERVAL:P3D
CALSCALE:GREGORIAN
BEGIN:VEVENT
DTSTART:20170330T013000Z
DTEND:20170330T030000Z
X-MICROSOFT-CDO-ALLDAYEVENT:FALSE
SUMMARY:Workshop: Your Parks\, Your Future
DESCRIPTION:Issaquah's parks are your parks   help shape your future!\n\n\n\nAs our community evolves and our needs change\, we're working with residents\, visitors\, and other park and trail users to set our vision for future investments in Issaquah's parks\, trails and open space.\n\n\n\nYou're invited to join us in person and share your ideas for your parks and your future at a series of community workshops.\n\n\n\nTo ensure our parks system is best positioned to serve our community's future needs\, we need your input! The initial phase of the process is called Listen & Learn.\n\n\n\nWe want to hear from park users of all ages.\n\n\n\nAs we work with our community to create the vision for Issaquah's parks system\, your ideas are vital. Dream big!\n\n\n\nYou're also invited take a few moments to answer some open-ended questions and outline your vision for Issaquah's parks\, trails and open space. Survey: http://bit.ly/2n91nRa
X-ALT-DESC;FMTTYPE=text/html:<span class="_4n-j _3cht fsl" data-testid="event-permalink-details">Issaquah&#39\;s parks are your parks &mdash\; help shape your future!<br />\n<br />\nAs our community evolves and our needs change\, we&#39\;re working with residents\, visitors\, and other park and trail users to set our vision for future investments in Issaquah&#39\;s parks\, trails and open space.<br />\n<br />\nYou&#39\;re invited to join us in person and share your ideas for your parks and your future at a series of community workshops.<br />\n<br />\nTo ensure our parks system is best positioned to serve our community&#39\;s future needs\, we need your input! The initial phase of the process is called Listen &amp\; Learn.<br />\n<br />\nWe want to hear from park users of all ages.<br />\n<br />\nAs we work with our community to create the vision for Issaquah&#39\;s parks system\, your ideas are vital. Dream big!<br />\n<br />\nYou&#39\;re also invited take a few moments to answer some open-ended questions and outline your vision for Issaquah&#39\;s parks\, trails and open space. Survey: <a href="https://l.facebook.com/l.php?u=http%3A%2F%2Fbit.ly%2F2n91nRa&amp\;h=ATOvCt5XKhtcInPuE3cQ3cbLOQfDS87FOJzKZ9UUQzk0_IDPDFDWFxYvkLskEKvd1ANet78jQ9nCTftoyA--RRXrzi-IIpYIX0t1eopAJ9ud94LFCXGanCCzpRUl&amp\;enc=AZNWb9HbUoNZYJM_wUyup86IyDolxiRpQZ3b55ENp5iOABAWddY4gd898tldLW6acU4&amp\;s=1" rel="nofollow nofollow" target="_blank"><font color="#0066cc">http://bit.ly/2n91nRa</font></a></span>
LOCATION:Issaquah Valley Elementary 555 NW Holly St. Issaquah\, WA 98027
UID:e.684.3530
SEQUENCE:3
DTSTAMP:20260424T182410Z
URL:https://business.issaquahchamber.com/events/details/workshop-your-parks-your-future-3530
END:VEVENT

END:VCALENDAR
